BEGIN:VCALENDAR
VERSION:2.0
PRODID:-//Library Market//iCal Export//EN
BEGIN:VEVENT
SUMMARY:Fourth of July Take Home Craft
UID:14580
DTSTAMP:20260421T182300Z
DTSTART:20260630T140000Z
DTEND:20260630T210000Z
LOCATION:Haddonfield Public Library, 60 N Haddon Ave, Haddonfield, NJ 0803
 3, United States
ROOM: Children&#039;s Department
DESCRIPTION:Recommended for ages 3 and up. *While supplies last
URL:https://haddonfield.librarycalendar.com/event/fourth-july-take-home-cr
 aft-14580
END:VEVENT
END:VCALENDAR
