BEGIN:VCALENDAR
VERSION:2.0
PRODID:-//Library Market//iCal Export//EN
BEGIN:VEVENT
SUMMARY:Rail Cube STEAM Exploration
UID:14583
DTSTAMP:20260423T224600Z
DTSTART:20260623T140000Z
DTEND:20260623T153000Z
LOCATION:Haddonfield Public Library, 60 N Haddon Ave, Haddonfield, NJ 0803
 3, United States
ROOM: Children&#039;s Program Room
DESCRIPTION:Explore, build, and play at the library using our brand new Ra
 il Cube sets!Rail Cube is a groundbreaking STEAM toy that transforms learn
 ing into a hands-on adventure. Rail Cube features five interchangeable cub
 es, allowing you to design and build dynamic three-dimensional courses for
  a mini train to navigate. Mix and match the cubes to create your Magnetic
  Monorail track set and watch as your mini train brings your imaginative d
 esigns to life. Learn More Here!
URL:https://haddonfield.librarycalendar.com/event/rail-cube-steam-explorat
 ion-14583
END:VEVENT
END:VCALENDAR
