BEGIN:VCALENDAR
VERSION:2.0
PRODID:-//Library Market//iCal Export//EN
BEGIN:VEVENT
SUMMARY:BCD Build Club
UID:14612
DTSTAMP:20260425T015600Z
DTSTART:20260528T193000Z
DTEND:20260528T203000Z
LOCATION:Haddonfield Public Library, 60 N Haddon Ave, Haddonfield, NJ 0803
 3, United States
ROOM: Technology Center
DESCRIPTION:Get ready for a blast of design-build adventures! Benita Coope
 r Design and Haddonfield Public Library have teamed up to bring 3rd, 4th, 
 and 5th graders super fun and hands-on design workshops throughout the yea
 r. Let&#039;s explore, dream, and build together, inspiring a love for des
 ign and creativity. Join the excitement and help us create a playground of
  imagination for our budding designers!Club Meetings:Project 07, Challenge
  Announcement &amp; Design Workshop: Thursday, May 14, 3:30-4:30 pmProject
  07, Design Review Showcase: Thursday, May 28, 3:30-4:30 pm, parents and f
 riends are welcome!*Please note there will be some (fun) homework required
  between the sessions. Only register if you can make it to BOTH sessions.
URL:https://haddonfield.librarycalendar.com/event/bcd-build-club-14612
END:VEVENT
END:VCALENDAR
